BEGIN:VCALENDAR
VERSION:2.0
CALSCALE:GREGORIAN
PRODID:adamgibbons/ics
METHOD:PUBLISH
X-PUBLISHED-TTL:PT1H
BEGIN:VEVENT
UID:144@bootblack.events
SUMMARY:Darklands Bootblack Station (Guest Bootblacks)
DTSTAMP:20260424T153800Z
DTSTART:20260308T120000Z
DTEND:20260308T160000Z
DESCRIPTION:Give your leather or latex some expert care at the Bootblack St
	ation. Choose\nyour bootblack\, discuss the experience you want and enjoy 
	the personal\nconnection that comes with the craft.\n\nGuest bootblacks wi
	ll be working outside contest hours on Thursday and Sunday\nduring market 
	opening times. For the latest updates check the noticeboard at the\nbootbl
	ack stand throughout the weekend.
URL:https://bootblack.events/event/darklands-bootblack-station-guest-bootbl
	acks-day-1
GEO:51.233875049999995;4.402057567727688
LOCATION:Darklands Festival - Waagnatie Expo & Events\, Antwerp
STATUS:CONFIRMED
CATEGORIES:Darklands
X-ALT-DESC;FMTTYPE=text/html:<p>Give your leather or latex some expert care
	 at the Bootblack Station. Choose your bootblack, discuss the experience y
	ou want and enjoy the personal connection that comes with the craft.</p><p
	>Guest bootblacks will be working outside contest hours on Thursday and Su
	nday during market opening times. For the latest updates check the noticeb
	oard at the bootblack stand throughout the weekend.</p>
END:VEVENT
BEGIN:VEVENT
UID:146@bootblack.events
SUMMARY:Bootblack Europe – Finale
DTSTAMP:20260424T153800Z
DTSTART:20260307T180000Z
DTEND:20260307T181500Z
DESCRIPTION:The main Stage\, 7:00 pm 7:15 pm (may be subject to Delays)\n\n
	"The final showdown of the Bootblack Europe election at Beyond Darklands 2
	026.\nSkill\, pride and dedication to the bootblack tradition come togethe
	r as one\ncandidate earns the honor of representing Europe’s bootblack com
	munity for the\nyear ahead."
URL:https://bootblack.events/event/bootblack-europe-finale
GEO:51.233875049999995;4.402057567727688
LOCATION:Darklands Festival - Waagnatie Expo & Events\, Antwerp
STATUS:CONFIRMED
CATEGORIES:Darklands
X-ALT-DESC;FMTTYPE=text/html:<p>The main Stage, 7:00 pm 7:15 pm (may be sub
	ject to Delays)</p><p>"The final showdown of the Bootblack Europe election
	 at Beyond Darklands 2026. Skill, pride and dedication to the bootblack tr
	adition come together as one candidate earns the honor of representing Eur
	ope’s bootblack community for the year ahead."</p>
END:VEVENT
BEGIN:VEVENT
UID:143@bootblack.events
SUMMARY:Darklands Bootblack Station (Contestant Hours Day 2)
DTSTAMP:20260424T153800Z
DTSTART:20260307T123000Z
DTEND:20260307T160000Z
DESCRIPTION:Give your leather or latex some expert care at the Bootblack St
	ation. Choose\nyour bootblack\, discuss the experience you want and enjoy 
	the personal\nconnection that comes with the craft.\n\nTipping is a long-s
	tanding tradition that recognises the time\, skill and\npersonal investmen
	t involved. A suggested minimum of €10 per serviced item is\nrecommended\,
	 though generosity is always appreciated. Half of all tips support\nthe Bo
	otblack Europe 2026 travel fund and the remaining half is divided equally\
	namong the contestants.
URL:https://bootblack.events/event/darklands-bootblack-station-contestant-h
	ours-day-2
GEO:51.233875049999995;4.402057567727688
LOCATION:Darklands Festival - Waagnatie Expo & Events\, Antwerp
STATUS:CONFIRMED
CATEGORIES:Bootblack Contest,Darklands
X-ALT-DESC;FMTTYPE=text/html:<p>Give your leather or latex some expert care
	 at the Bootblack Station. Choose your bootblack, discuss the experience y
	ou want and enjoy the personal connection that comes with the craft.</p><p
	>Tipping is a long-standing tradition that recognises the time, skill and 
	personal investment involved. A suggested minimum of €10 per serviced item
	 is recommended, though generosity is always appreciated. Half of all tips
	 support the Bootblack Europe 2026 travel fund and the remaining half is d
	ivided equally among the contestants.</p>
END:VEVENT
BEGIN:VEVENT
UID:145@bootblack.events
SUMMARY:Bootblack Europe – Pop Questions
DTSTAMP:20260424T153800Z
DTSTART:20260306T150000Z
DTEND:20260306T153000Z
DESCRIPTION:The Bootblack Europe candidates take the stage for the Pop Ques
	tions. Sharp\nminds\, quick wit and deep-rooted knowledge are put to the t
	est as the\ncontestants respond to unexpected questions from the judges. A
	 revealing moment\nwhere personality\, values and connection to the commun
	ity truly shine.
URL:https://bootblack.events/event/bootblack-europe-pop-questions
GEO:51.233875049999995;4.402057567727688
LOCATION:Darklands Festival - Waagnatie Expo & Events\, Antwerp
STATUS:CONFIRMED
CATEGORIES:Darklands
X-ALT-DESC;FMTTYPE=text/html:<p>The Bootblack Europe candidates take the st
	age for the Pop Questions. Sharp minds, quick wit and deep-rooted knowledg
	e are put to the test as the contestants respond to unexpected questions f
	rom the judges. A revealing moment where personality, values and connectio
	n to the community truly shine.</p>
END:VEVENT
BEGIN:VEVENT
UID:142@bootblack.events
SUMMARY:Darklands Bootblack Station (Contestant Hours Day 1)
DTSTAMP:20260424T153800Z
DTSTART:20260306T120000Z
DTEND:20260306T180000Z
DESCRIPTION:Give your leather or latex some expert care at the Bootblack St
	ation. Choose\nyour bootblack\, discuss the experience you want and enjoy 
	the personal\nconnection that comes with the craft.\n\nTipping is a long-s
	tanding tradition that recognises the time\, skill and\npersonal investmen
	t involved. A suggested minimum of €10 per serviced item is\nrecommended\,
	 though generosity is always appreciated. Half of all tips support\nthe Bo
	otblack Europe 2026 travel fund and the remaining half is divided equally\
	namong the contestants.
URL:https://bootblack.events/event/darklands-bootblack-station-contestant-h
	ours-day-1
GEO:51.233875049999995;4.402057567727688
LOCATION:Darklands Festival - Waagnatie Expo & Events\, Antwerp
STATUS:CONFIRMED
CATEGORIES:Darklands
X-ALT-DESC;FMTTYPE=text/html:<p>Give your leather or latex some expert care
	 at the Bootblack Station. Choose your bootblack, discuss the experience y
	ou want and enjoy the personal connection that comes with the craft.</p><p
	>Tipping is a long-standing tradition that recognises the time, skill and 
	personal investment involved. A suggested minimum of €10 per serviced item
	 is recommended, though generosity is always appreciated. Half of all tips
	 support the Bootblack Europe 2026 travel fund and the remaining half is d
	ivided equally among the contestants.</p>
END:VEVENT
BEGIN:VEVENT
UID:141@bootblack.events
SUMMARY:Bootblack Europe 2026 Contest
DTSTAMP:20260424T153800Z
DTSTART:20260306T120000Z
DTEND:20260307T180000Z
DESCRIPTION:Applications for Contestants open until Febuary 20th\n\nApply h
	ere https://form.jotform.com/253632040745351\n[https://form.jotform.com/25
	3632040745351]\n\nBeyond Darklands\, together with producer Alistair Leath
	erHiraeth\, International\nMr Bootblack 2022\, and assistant producer Mal 
	McDonald\, Bootblack Europe 2023\,\nproudly welcomes you to the 7th Bootbl
	ack Europe Contest.\n\n\nCONTEST PROGRAM\n\n\nBOOTBLACK STATION\n\nContest
	ants will be bootblacking at the Bootblacking station in Hall 1\n\nFriday 
	1 – 7 pm\n\nSaturday 7 1 – 5 pm\n\nGuest bootblacks will also be working o
	utside contest hours on Thursday and\nSunday during market opening times.\
	n\n\nBOOTBLACK EUROPE – POP QUESTIONS\n\nMR S Leather Stage\, Friday 04:00
	 pm - 04:30 pm\n\n\nBOOTBLACK EUROPE – FINALE\n\nMain Stage\, Saturday 7:0
	0 pm\n\n
URL:https://bootblack.events/event/bootblack-europe-2026-contest
GEO:51.233875049999995;4.402057567727688
LOCATION:Darklands Festival - Waagnatie Expo & Events\, Antwerp
STATUS:CONFIRMED
CATEGORIES:Bootblack Contest,Bootblack Europe,Darklands
X-ALT-DESC;FMTTYPE=text/html:<p>Applications for Contestants open until Feb
	uary 20th</p><p>Apply here <a href="https://form.jotform.com/2536320407453
	51" target="_blank">https://form.jotform.com/253632040745351</a></p><p>Bey
	ond Darklands, together with producer Alistair LeatherHiraeth, Internation
	al Mr Bootblack 2022, and assistant producer Mal McDonald, Bootblack Europ
	e 2023, proudly welcomes you to the 7th Bootblack Europe Contest.</p><h2>C
	ontest Program</h2><h3>Bootblack Station </h3><p>Contestants will be bootb
	lacking at the Bootblacking station in Hall 1</p><p>Friday 1 – 7 pm</p><p>
	Saturday 7  1 – 5 pm</p><p>Guest bootblacks will also be working outside c
	ontest hours on Thursday and Sunday during market opening times.</p><h3>Bo
	otblack Europe – Pop Questions</h3><p>MR S Leather Stage, Friday 04:00 pm 
	- 04:30 pm</p><h3>Bootblack Europe – Finale</h3><p>Main Stage, Saturday 7:
	00 pm</p><p></p>
END:VEVENT
BEGIN:VEVENT
UID:35@bootblack.events
SUMMARY:Darklands Masterclass: Beginner Bootblacking - Care and Techniques
DTSTAMP:20260424T153800Z
DTSTART:20250302T111500Z
DTEND:20250302T121500Z
DESCRIPTION:More info: https://darklands.be/masterclasses/\n[https://darkla
	nds.be/masterclasses/]
URL:https://bootblack.events/event/darklands-masterclass-beginner-bootblack
	ing-care-and-techniques
GEO:51.233875049999995;4.402057567727688
LOCATION:Darklands Festival - Waagnatie Expo & Events\, Antwerp
STATUS:CONFIRMED
CATEGORIES:Antwerp,Belgium,Workshop,beginner bootblacking,bootblacking 101,
	lesson,Education
X-ALT-DESC;FMTTYPE=text/html:<p>More info: <a target="_blank" href="https:/
	/darklands.be/masterclasses/">https://darklands.be/masterclasses/</a></p>
END:VEVENT
BEGIN:VEVENT
UID:18@bootblack.events
SUMMARY:Bootblack Europe Contest
DTSTAMP:20260424T153800Z
DTSTART:20250228T160000Z
DTEND:20250302T170000Z
DESCRIPTION:The Bootblack Europe 2025 contest will take place during Darkla
	nds festival at\nWaagnatie in Antwerp. Bootblack contestants will be requi
	red to attend from\nThursday evening (27th February) until Saturday evenin
	g\, possibly Sunday (2nd\nMarch)\, depending on scheduling which is yet to
	 be confirmed. Bootblack\ncontestants will receive a free Madness pass to 
	Darklands. The contest is non\ngendered and accepts all levels of ability 
	to apply. For enquiries please\ncontact LeatherHiraeth@gmail.com.
URL:https://bootblack.events/event/bootblack-europe-contest-1
GEO:51.233875049999995;4.402057567727688
LOCATION:Darklands Festival - Waagnatie Expo & Events\, Antwerp
STATUS:CONFIRMED
CATEGORIES:Bootblack Stand,Title Contest,Antwerp,Belgium
X-ALT-DESC;FMTTYPE=text/html:<p>The Bootblack Europe 2025 contest will take
	 place during Darklands festival at Waagnatie in Antwerp.  Bootblack conte
	stants will be required to attend from Thursday evening (27th February) un
	til Saturday evening, possibly Sunday (2nd March), depending on scheduling
	 which is yet to be confirmed. Bootblack contestants will receive a free M
	adness pass to Darklands.  The contest is non gendered and accepts all lev
	els of ability to apply. For enquiries please contact LeatherHiraeth@gmail
	.com. </p>
END:VEVENT
BEGIN:VEVENT
UID:42@bootblack.events
SUMMARY:Darklands Masterclass: Erotic Bootblacking
DTSTAMP:20260424T153800Z
DTSTART:20250228T134500Z
DTEND:20250228T144500Z
DESCRIPTION:EROTIC BOOTBLACKING\n2.45-3.45 pm   (14:45 – 15:45 h)\n€22\n\nW
	hile this workshop will include some basics such as products and tips for\
	nworking on different garments\, the focus is on the interaction between t
	he two\nindividuals in a leather care scene. Whether it’s simply massaging
	 a person\nthrough their leather shirt or incorporating complex kink dynam
	ics into\nbootblacking\, this session should give you some ideas for the n
	ext time your\nleathers need to be worked on.\n\nThis will include some de
	monstrations of erotic scene options and time to ask\nabout specific leath
	er care needs.\n\n \n\nINSTRUCTOR\n\nMal and Alistair LeatherHiraeth\n\nMo
	re Info: https://darklands.be/masterclasses/\n[https://darklands.be/master
	classes/]
URL:https://bootblack.events/event/darklands-masterclass-erotic-bootblackin
	g
GEO:51.233875049999995;4.402057567727688
LOCATION:Darklands Festival - Waagnatie Expo & Events\, Antwerp
STATUS:CONFIRMED
CATEGORIES:Belgium,Antwerp,Workshop
X-ALT-DESC;FMTTYPE=text/html:<p><strong>EROTIC BOOTBLACKING<br></strong>2.4
	5-3.45 pm &nbsp;<em> (14:45 – 15:45 h)</em><br>€22</p><p>While this worksh
	op will include some basics such as products and tips for working on diffe
	rent garments, the focus is on the interaction between the two individuals
	 in a leather care scene. Whether it’s simply massaging a person through t
	heir leather shirt or incorporating complex kink dynamics into bootblackin
	g, this session should give you some ideas for the next time your leathers
	 need to be worked on.</p><p>This will include some demonstrations of erot
	ic scene options and time to ask about specific leather care needs.</p><p>
	&nbsp;</p><p><strong>INSTRUCTOR</strong></p><p>Mal and Alistair LeatherHir
	aeth</p><p>More Info: <a target="_blank" href="https://darklands.be/master
	classes/">https://darklands.be/masterclasses/</a></p>
END:VEVENT
BEGIN:VEVENT
UID:41@bootblack.events
SUMMARY:Darklands Masterclass: Bootblacking 101
DTSTAMP:20260424T153800Z
DTSTART:20250227T161500Z
DTEND:20250227T171500Z
DESCRIPTION:BOOTBLACKING 101\n5.15-6.15 pm   (17:15 – 18:15 h)\n€ 22\n\nAn 
	interactive workshop for beginners to caring for boots\, held by Mal and\n
	Alistair LeatherHiraeth. This will cover the basics of cleaning\, conditio
	ning\nand shining boots whether you’re just planning to take care of your 
	own\, or work\non a stand at your local leather or kink space. We’ll also 
	cover setting up a\nstand\, negotiating a bootblacking scene and the tippi
	ng culture of Bootblacks if\nthe group is inclined to.\n\nFeel free to ask
	 questions throughout\, and bring your own boots if you like\,\nwork with 
	a partner\, or just sit back and watch!\n\nMore Info: https://darklands.be
	/masterclasses/\n[https://darklands.be/masterclasses/]
URL:https://bootblack.events/event/darklands-masterclass-bootblacking-101
GEO:51.233875049999995;4.402057567727688
LOCATION:Darklands Festival - Waagnatie Expo & Events\, Antwerp
STATUS:CONFIRMED
CATEGORIES:Belgium,Antwerp,Workshop
X-ALT-DESC;FMTTYPE=text/html:<p><strong>BOOTBLACKING 101<br></strong>5.15-6
	.15 pm &nbsp;<em> (17:15 – 18:15 h)</em><br>€ 22</p><p>An interactive work
	shop for beginners to caring for boots, held by Mal and Alistair LeatherHi
	raeth. This will cover the basics of cleaning, conditioning and shining bo
	ots whether you’re just planning to take care of your own, or work on a st
	and at your local leather or kink space. We’ll also cover setting up a sta
	nd, negotiating a bootblacking scene and the tipping culture of Bootblacks
	 if the group is inclined to.</p><p>Feel free to ask questions throughout,
	 and bring your own boots if you like, work with a partner, or just sit ba
	ck and watch!</p><p>More Info: <a target="_blank" href="https://darklands.
	be/masterclasses/">https://darklands.be/masterclasses/</a></p>
END:VEVENT
BEGIN:VEVENT
UID:40@bootblack.events
SUMMARY:Darklands Masterclass: Community Stories
DTSTAMP:20260424T153800Z
DTSTART:20250227T150000Z
DTEND:20250227T160000Z
DESCRIPTION:COMMUNITY STORIES\n4-5 pm   (16:00 – 17:00 h)\n€ 22\n\nDISCLAIM
	ER This class will be video recorded as part of a living archive on\nleath
	er\, kink and bootblack history\, and attendees will be asked to sign a\nw
	aiver before attending.\n\nJoin Master Alistair LeatherHiraeth for an enga
	ging and immersive experience in\nthe Bootblack Stories Project\, an initi
	ative he started during his International\nMr. Bootblack title year. This 
	class is designed to expand this project into a\ndynamic living archive of
	 the stories from our leather\, kink\, and fetish\ncommunity.\n\nThis is n
	ot just a class—it’s a celebration of our collective journeys. You’ll\nhea
	r his-story\, her-story\, their-story\, and have the chance to share your 
	own.\nOur leather paths shape who we become\, and every person we meet in 
	our community\nadds to the rich tapestry of our experiences and choices.\n
	\nWhether you’re a seasoned veteran of the kink scene or just starting you
	r\njourney\, we invite you to come and share what drives you\, what you’re
	 passionate\nabout\, and what has shaped your kink life. This is an opport
	unity to connect\,\nshare\, and document our unique stories.\n\nAre you pa
	ssionate about leather\, pups\, rubber\, bootblacking\, or any other kink?
	\nAlistair wants to hear your story. Don’t miss this chance to contribute 
	to a\nliving archive\, witness the stories of others\, and celebrate the d
	iversity and\nrichness of our community. Come be a part of history in the 
	making!\n\nMore Info: https://darklands.be/masterclasses/\n[https://darkla
	nds.be/masterclasses/]
URL:https://bootblack.events/event/darklands-masterclass-community-stories
GEO:51.233875049999995;4.402057567727688
LOCATION:Darklands Festival - Waagnatie Expo & Events\, Antwerp
STATUS:CONFIRMED
CATEGORIES:Belgium,Antwerp
X-ALT-DESC;FMTTYPE=text/html:<p><strong>COMMUNITY STORIES<br></strong>4-5 p
	m &nbsp;<em> (16:00 – 17:00 h)</em><br>€ 22</p><p><strong>DISCLAIMER</stro
	ng> This class will be video recorded as part of a living archive on leath
	er, kink and bootblack history, and attendees will be asked to sign a waiv
	er before attending.</p><p>Join Master Alistair LeatherHiraeth for an enga
	ging and immersive experience in the Bootblack Stories Project, an initiat
	ive he started during his International Mr. Bootblack title year. This cla
	ss is designed to expand this project into a dynamic living archive of the
	 stories from our leather, kink, and fetish community.</p><p>This is not j
	ust a class—it’s a celebration of our collective journeys. You’ll hear his
	-story, her-story, their-story, and have the chance to share your own. Our
	 leather paths shape who we become, and every person we meet in our commun
	ity adds to the rich tapestry of our experiences and choices.</p><p>Whethe
	r you’re a seasoned veteran of the kink scene or just starting your journe
	y, we invite you to come and share what drives you, what you’re passionate
	 about, and what has shaped your kink life. This is an opportunity to conn
	ect, share, and document our unique stories.</p><p>Are you passionate abou
	t leather, pups, rubber, bootblacking, or any other kink? Alistair wants t
	o hear your story. Don’t miss this chance to contribute to a living archiv
	e, witness the stories of others, and celebrate the diversity and richness
	 of our community. Come be a part of history in the making!</p><p>More Inf
	o: <a target="_blank" href="https://darklands.be/masterclasses/">https://d
	arklands.be/masterclasses/</a></p>
END:VEVENT
END:VCALENDAR
